BEGIN:VCALENDAR
VERSION:2.0
PRODID:-//SportPlan//Event Calendar//EN
CALSCALE:GREGORIAN
BEGIN:VEVENT
UID:b8e8f2f8-41bd-45de-8fc1-6f03e4f58cea@sportplan.local
DTSTAMP:20260420T192129Z
DTSTART;VALUE=DATE:20260516
DTEND;VALUE=DATE:20260517
SUMMARY:XIX Media Maratón “Cáceres Patrimonio de la Humanidad” – Cáceres 2026
DESCRIPTION:XIX Media Maratón “Cáceres Patrimonio de la Humanidad” – Cáceres 2026 se celebra el 16 de mayo de 2026 en Cáceres. Es una gran opción para quienes buscan una experiencia deportiva bien organizada en un entorno atractivo. Ideal para participantes que quieren disfrutar del recorrido\, el ambiente del evento y una jornada activa.
LOCATION:Cáceres
URL:https://sportplan.vercel.app/en/events/xix-media-maraton-caceres-patrimonio-de-la-humanidad-caceres-2026-xix-media-maraton-caceres-patrimonio-de-la-humanidad-caceres-2026-caceres-2026-05-16
END:VEVENT
END:VCALENDAR
