BEGIN:VCALENDAR
VERSION:2.0
PRODID:-//SportPlan//Event Calendar//EN
CALSCALE:GREGORIAN
BEGIN:VEVENT
UID:17e91719-2b2d-4a32-a545-960b455eeda2@sportplan.local
DTSTAMP:20260420T192032Z
DTSTART;VALUE=DATE:20260627
DTEND;VALUE=DATE:20260628
SUMMARY:XIX Desértica Olivera Belchite - 20K
DESCRIPTION:
LOCATION:Belchite\, Zaragoza\, Aragón
URL:https://sportplan.vercel.app/en/events/xix-desertica-olivera-belchite-20k-belchite-2026-06-27-20k
END:VEVENT
END:VCALENDAR
