BEGIN:VCALENDAR
VERSION:2.0
PRODID:-//SportPlan//Event Calendar//EN
CALSCALE:GREGORIAN
BEGIN:VEVENT
UID:714b1722-8237-4aac-925f-b7665c549494@sportplan.local
DTSTAMP:20260420T210342Z
DTSTART;VALUE=DATE:20260719
DTEND;VALUE=DATE:20260720
SUMMARY:XIV Triatlo Longo de Caminha
DESCRIPTION:XIV Triatlo Longo de Caminha is an official Federação de Triatlo de Portugal event in Caminha\, Portugal on 19 July 2026. The federation event page lists it as the Campeonato Nacional de Clubes de Triatlo Longo with Prova Aberta\, and publishes an official poster plus regulation and course documents for both the clubs race and open event.
LOCATION:Caminha\, Viana do Castelo\, Portugal
URL:https://sportplan.vercel.app/en/events/xiv-triatlo-longo-de-caminha-2026-07-19
END:VEVENT
END:VCALENDAR
