BEGIN:VCALENDAR
VERSION:2.0
PRODID:-//SportPlan//Event Calendar//EN
CALSCALE:GREGORIAN
BEGIN:VEVENT
UID:a6116390-861e-4df4-86ac-2086487f512c@sportplan.local
DTSTAMP:20260420T195044Z
DTSTART;VALUE=DATE:20260512
DTEND;VALUE=DATE:20260513
SUMMARY:XIV Trail de Romancos\, Alcarria Verde 7 KM
DESCRIPTION:XIV Trail de Romancos\, Alcarria Verde 7 KM se celebra el 12 de mayo de 2026 en Romancos\, Guadalajara\, Castilla-La Mancha. La prueba recorre 7 km. Ideal para participantes que quieren disfrutar del recorrido\, el ambiente del evento y una jornada activa.
LOCATION:Romancos\, Guadalajara\, Castilla-La Mancha
URL:https://sportplan.vercel.app/en/events/xiv-trail-de-romancos-alcarria-verde-7-km-romancos-2026-05-12-7k
END:VEVENT
END:VCALENDAR
