BEGIN:VCALENDAR
VERSION:2.0
PRODID:-//SportPlan//Event Calendar//EN
CALSCALE:GREGORIAN
BEGIN:VEVENT
UID:8aa0f01b-c079-4e98-b900-0374a5c36ac7@sportplan.local
DTSTAMP:20260420T181058Z
DTSTART;VALUE=DATE:20260531
DTEND;VALUE=DATE:20260601
SUMMARY:XIV Bomba Trail Alpuente
DESCRIPTION:XIV Bomba Trail Alpuente es una prueba que se celebrará el 2026-05-31 en Alpuente\, Valencia\, Valencia. Es una buena opción para quienes buscan una jornada activa y bien organizada\, con un recorrido de 11 km. Ideal tanto para participantes habituales como para quienes quieren sumar una nueva experiencia al calendario.
LOCATION:Alpuente\, Valencia\, Valencia
URL:https://sportplan.vercel.app/en/events/xiv-bomba-trail-alpuente-alpuente-2026-05-31-11k
END:VEVENT
END:VCALENDAR
