BEGIN:VCALENDAR
VERSION:2.0
PRODID:-//SportPlan//Event Calendar//EN
CALSCALE:GREGORIAN
BEGIN:VEVENT
UID:3d973c76-86a2-46f7-8ba5-4abbb3b76469@sportplan.local
DTSTAMP:20260420T192132Z
DTSTART;VALUE=DATE:20260613
DTEND;VALUE=DATE:20260614
SUMMARY:XIII 10K Nocturno Benicàssim Platges 2026 — 10K Nocturno Benicassim 10K
DESCRIPTION:XIII 10K Nocturno Benicàssim Platges 2026 — 10K Nocturno Benicassim 10K se celebra en Castellón de la Plana el 13 de junio de 2026. Esta prueba ofrece una experiencia bien organizada para corredores\, con un recorrido de aproximadamente 10 km. Es una buena oportunidad para disfrutar del ambiente del evento\, medirte sobre el recorrido y vivir una jornada deportiva en Castellón de la Plana.
LOCATION:Castellón de la Plana
URL:https://sportplan.vercel.app/en/events/xiii-10k-nocturno-benicassim-platges-2026-10k-nocturno-benicassim-10k-castellon-de-la-plana-2026-06-13
END:VEVENT
END:VCALENDAR
