BEGIN:VCALENDAR
VERSION:2.0
PRODID:-//SportPlan//Event Calendar//EN
CALSCALE:GREGORIAN
BEGIN:VEVENT
UID:7377e49a-a8b2-4883-8560-67e1c17f1b14@sportplan.local
DTSTAMP:20260420T193451Z
DTSTART;VALUE=DATE:20260801
DTEND;VALUE=DATE:20260802
SUMMARY:X-WATERS Yenisei 2026
DESCRIPTION:X-WATERS Yenisei 2026 is an official amateur open-water swimming event on the Yenisei in Dudinka\, Krasnoyarsk Krai\, Russia. The official event page lists race day on 1 August 2026 and a public-entry program including 100 m\, 500 m\, 3 km and 12 km distances.
LOCATION:Yenisei River\, Dudinka
URL:https://sportplan.vercel.app/en/events/x-waters-yenisei-2026-2026-08-01
END:VEVENT
END:VCALENDAR
