BEGIN:VCALENDAR
VERSION:2.0
PRODID:-//SportPlan//Event Calendar//EN
CALSCALE:GREGORIAN
BEGIN:VEVENT
UID:c77619c0-0ecc-4410-bf9c-013b3a91f8ac@sportplan.local
DTSTAMP:20260420T193344Z
DTSTART;VALUE=DATE:20260905
DTEND;VALUE=DATE:20260907
SUMMARY:X-WATERS Amur 2026
DESCRIPTION:X-WATERS Amur 2026 is an official amateur open-water swimming event in Khabarovsk\, Russia. The official organizer page names the 2026 edition\, exposes structured event date fields for 5 September 2026\, and publishes a two-day preliminary program with races on 5 and 6 September 2026. The official page places day-one operations at Yacht Club Laguna and day-two operations and main finish at Nevelskoy Embankment on the Amur River\, with public participation distances of 500 m\, Russian verst\, 2 km\, 5 km\, and 68 km.
LOCATION:Khabarovsk\, Amur River
URL:https://sportplan.vercel.app/en/events/x-waters-amur-2026-2026-09-05
END:VEVENT
END:VCALENDAR
