BEGIN:VCALENDAR
VERSION:2.0
PRODID:-//SportPlan//Event Calendar//EN
CALSCALE:GREGORIAN
BEGIN:VEVENT
UID:d1dca7ef-278d-4ea9-bbfc-9dd702edefdd@sportplan.local
DTSTAMP:20260420T192104Z
DTSTART;VALUE=DATE:20261201
DTEND;VALUE=DATE:20261202
SUMMARY:X-Treme Trail de San Antonio Etxebarri 10K
DESCRIPTION:X-Treme Trail de San Antonio Etxebarri 10K se celebrará el 1 de diciembre de 2026 en Etxebarri\, Vizcaya\, País Vasco. Es una buena cita para quienes quieren vivir el ambiente del evento en directo y planificar la jornada con antelación. La sede prevista está a unos 10 km\, así que conviene revisar accesos\, horarios y servicios antes de salir.
LOCATION:Etxebarri\, Vizcaya\, País Vasco
URL:https://sportplan.vercel.app/en/events/x-treme-trail-de-san-antonio-etxebarri-10k-etxebarri-2026-12-01-10k
END:VEVENT
END:VCALENDAR
