BEGIN:VCALENDAR
VERSION:2.0
PRODID:-//SportPlan//Event Calendar//EN
CALSCALE:GREGORIAN
BEGIN:VEVENT
UID:b700b6d9-7f01-4c85-b422-328defe73387@sportplan.local
DTSTAMP:20260420T210551Z
DTSTART;VALUE=DATE:20260606
DTEND;VALUE=DATE:20260607
SUMMARY:X-Man Romania 2026
DESCRIPTION:X-Man Romania 2026 is an official amateur triathlon in Oradea\, Romania on 6 June 2026. The Romanian Triathlon Federation calendar lists full\, half\, and standard-distance races and links the official X-Man Romania website\, making it a high-value open-participation long-course triathlon entry.
LOCATION:Oradea
URL:https://sportplan.vercel.app/en/events/x-man-romania-2026-oradea-2026-06-06
END:VEVENT
END:VCALENDAR
