BEGIN:VCALENDAR
VERSION:2.0
PRODID:-//SportPlan//Event Calendar//EN
CALSCALE:GREGORIAN
BEGIN:VEVENT
UID:71ee8666-99da-4174-9890-88b7c5fbb81b@sportplan.local
DTSTAMP:20260420T194804Z
DTSTART;VALUE=DATE:20261004
DTEND;VALUE=DATE:20261005
SUMMARY:Wop Challenge Full
DESCRIPTION:Wop Challenge Full se celebra en Bilbao\, Bizkaia\, País Vasco el 4 de octubre de 2026\, ofreciendo a los corredores una ocasión ideal para disfrutar de un ambiente competitivo y bien organizado en ES. La distancia anunciada es de 224 km\, una propuesta atractiva para corredores que buscan un reto claro y una jornada especial. Es una prueba pensada para vivir una jornada deportiva motivadora\, tanto para atletas experimentados como para participantes entusiastas.
LOCATION:Bilbao\, Bizkaia\, País Vasco
URL:https://sportplan.vercel.app/en/events/wop-challenge-full-bilbao-2026-10-04-224k
END:VEVENT
END:VCALENDAR
