BEGIN:VCALENDAR
VERSION:2.0
PRODID:-//SportPlan//Event Calendar//EN
CALSCALE:GREGORIAN
BEGIN:VEVENT
UID:baf54184-b4fc-4cd7-a52c-b6d85b1482e7@sportplan.local
DTSTAMP:20260420T191725Z
DTSTART;VALUE=DATE:20260510
DTEND;VALUE=DATE:20260511
SUMMARY:Wings for Life World Run Germany 2026
DESCRIPTION:Wings for Life World Run Germany 2026 is an official amateur participation running event scheduled for 10 May 2026 in Munich\, Germany. The official Munich location page says the event returns to its roots with Germany's flagship run route in Munich\, starting in Olympiapark and continuing through Fasanerie\, Moosach\, Ludwigsfeld\, Karlsfeld\, Hattenhofen and Haspelmoor. Like other Wings for Life World Run events\, it is open to runners and wheelchair participants racing together against the Catcher Car format.
LOCATION:Munich
URL:https://sportplan.vercel.app/en/events/wings-for-life-world-run-germany-2026-05-10
END:VEVENT
END:VCALENDAR
