BEGIN:VCALENDAR
VERSION:2.0
PRODID:-//SportPlan//Event Calendar//EN
CALSCALE:GREGORIAN
BEGIN:VEVENT
UID:b13f6db8-7f5c-4563-9133-5f5884df77bb@sportplan.local
DTSTAMP:20260420T180129Z
DTSTART;VALUE=DATE:20260927
DTEND;VALUE=DATE:20260928
SUMMARY:Windsor Half-Marathon
DESCRIPTION:
LOCATION:Windsor
URL:https://sportplan.vercel.app/en/events/windsor-half-marathon-windsor-2026-09-27
END:VEVENT
END:VCALENDAR
