BEGIN:VCALENDAR
VERSION:2.0
PRODID:-//SportPlan//Event Calendar//EN
CALSCALE:GREGORIAN
BEGIN:VEVENT
UID:a739111b-ec5d-4afc-a4d5-8e43d14fd7de@sportplan.local
DTSTAMP:20260420T221750Z
DTSTART;VALUE=DATE:20260530
DTEND;VALUE=DATE:20260531
SUMMARY:Wicklow Way Ultra 127K 2026
DESCRIPTION:Wicklow Way Ultra 127K 2026 is an event scheduled for 2026-05-30 in Dublin\, Leinster. It is a solid option for participants looking for a well-organized active outing\, with a distance of 127 km. The event suits both regular participants and people who want to add a new challenge to their calendar.
LOCATION:Dublin\, Leinster
URL:https://sportplan.vercel.app/en/events/wicklow-way-ultra-127k-2026-dublin-2026-05-30
END:VEVENT
END:VCALENDAR
