BEGIN:VCALENDAR
VERSION:2.0
PRODID:-//SportPlan//Event Calendar//EN
CALSCALE:GREGORIAN
BEGIN:VEVENT
UID:1d92ac5b-81f2-4a03-be4e-cb30dd187540@sportplan.local
DTSTAMP:20260420T221436Z
DTSTART;VALUE=DATE:20260802
DTEND;VALUE=DATE:20260803
SUMMARY:WESTPAC 10KM
DESCRIPTION:WESTPAC 10KM  Start Time: 9:00am Recommended Arrival Time: 8:00am Start/Finish Line:  Alexandra Pde\, Alexandra Headland Minimum Age: 11 What is included in your entry fee:  Race bib (personalised up until 22 June 2026)\, Timing tag\, Finishers medal and Event tee-shirt (subject to availability) - check sizes here. Cut-off Times: 2hrs…
LOCATION:Sunshine Coast\, Queensland\, Australia
URL:https://sportplan.vercel.app/en/events/westpac-10km-2026-08-02
END:VEVENT
END:VCALENDAR
