BEGIN:VCALENDAR
VERSION:2.0
PRODID:-//SportPlan//Event Calendar//EN
CALSCALE:GREGORIAN
BEGIN:VEVENT
UID:51a25b98-04ac-44c6-8576-00630742afe2@sportplan.local
DTSTAMP:20260420T204551Z
DTSTART;VALUE=DATE:20260502
DTEND;VALUE=DATE:20260503
SUMMARY:Welschlauf
DESCRIPTION:Welschlauf findet am 02.05.2026 in Ehrenhausen\, AT\, statt\, mit einer offiziellen Streckenlänge des Veranstalters. Die Veranstaltung bietet eine starke Atmosphäre\, ein klares sportliches Ziel und ein aktives Erlebnis in besonderer Umgebung.
LOCATION:Ehrenhausen
URL:https://sportplan.vercel.app/en/events/welschlauf-ehrenhausen-2026-05-02
END:VEVENT
END:VCALENDAR
