BEGIN:VCALENDAR
VERSION:2.0
PRODID:-//SportPlan//Event Calendar//EN
CALSCALE:GREGORIAN
BEGIN:VEVENT
UID:a01a7281-da35-42e1-8dbe-203b42966c6b@sportplan.local
DTSTAMP:20260420T180604Z
DTSTART;VALUE=DATE:20260614
DTEND;VALUE=DATE:20260615
SUMMARY:Wadjemup Rottnest Running Festival
DESCRIPTION:
LOCATION:Rottnest
URL:https://sportplan.vercel.app/en/events/wadjemup-rottnest-running-festival-rottnest-2026-06-14
END:VEVENT
END:VCALENDAR
