BEGIN:VCALENDAR
VERSION:2.0
PRODID:-//SportPlan//Event Calendar//EN
CALSCALE:GREGORIAN
BEGIN:VEVENT
UID:bd4e09c3-c1fc-4c2c-9217-a48c25e7165a@sportplan.local
DTSTAMP:20260420T204708Z
DTSTART;VALUE=DATE:20260712
DTEND;VALUE=DATE:20260713
SUMMARY:Wachauer Radtage
DESCRIPTION:Wachauer Radtage findet am 12. Juli 2026 in Mautern an der Donau statt. Die Veranstaltung ist ideal für alle\, die ein gut organisiertes Event mit offizieller Distanz und mit motivierender Laufatmosphäre suchen. Der Start bei diesem Rennen bietet eine schöne Gelegenheit\, die Strecke zu genießen\, sich ein sportliches Ziel zu setzen und gemeinsam mit anderen Läuferinnen und Läufern an den Start zu gehen.
LOCATION:Mautern an der Donau
URL:https://sportplan.vercel.app/en/events/wachauer-radtage-mautern-an-der-donau-2026-07-12
END:VEVENT
END:VCALENDAR
