BEGIN:VCALENDAR
VERSION:2.0
PRODID:-//SportPlan//Event Calendar//EN
CALSCALE:GREGORIAN
BEGIN:VEVENT
UID:a2a0f3a5-b415-411f-913b-909a429290ed@sportplan.local
DTSTAMP:20260420T190909Z
DTSTART;VALUE=DATE:20260422
DTEND;VALUE=DATE:20260423
SUMMARY:Võrumaa kolmapäevak
DESCRIPTION:Võrumaa kolmapäevak is an official amateur orienteering event in Juba\, Estonia on 22 April 2026. The official Estonian Orienteering Federation event page confirms the date\, Juba külaväljak venue\, organizer Võru\, and the official organizer information page. The official OK Võru päevakud page is the stable organizer source for this recurring public Wednesday event series.
LOCATION:Juba küla\, Võru vald\, Estonia
URL:https://sportplan.vercel.app/en/events/vorumaa-kolmapaevak-juba-2026-04-22
END:VEVENT
END:VCALENDAR
