BEGIN:VCALENDAR
VERSION:2.0
PRODID:-//SportPlan//Event Calendar//EN
CALSCALE:GREGORIAN
BEGIN:VEVENT
UID:8321f625-5dbb-4c61-8c3a-dfbcdb5ae40d@sportplan.local
DTSTAMP:20260420T193340Z
DTSTART;VALUE=DATE:20260626
DTEND;VALUE=DATE:20260627
SUMMARY:Volcano Marathon: Easter Island Edition - Chile
DESCRIPTION:
LOCATION:Easter Island\, Chile
URL:https://sportplan.vercel.app/en/events/volcano-marathon-easter-island-edition-chile-2026-06-26
END:VEVENT
END:VCALENDAR
