BEGIN:VCALENDAR
VERSION:2.0
PRODID:-//SportPlan//Event Calendar//EN
CALSCALE:GREGORIAN
BEGIN:VEVENT
UID:80b03bea-d116-4be9-b39c-caf08c5a3989@sportplan.local
DTSTAMP:20260420T194046Z
DTSTART;VALUE=DATE:20260726
DTEND;VALUE=DATE:20260727
SUMMARY:Vlasinski Triatlon Samoprevazilaženja 2026
DESCRIPTION:Vlasinski Triatlon Samoprevazilaženja 2026 is an official amateur triathlon event at Vlasinsko jezero\, Serbia on 26 July 2026. The Serbian Triathlon Federation calendar lists the race and the official Sri Chinmoy race page confirms open participation for adults\, juniors\, youth and kids\, age group categories\, published entry fees\, public online registration\, venue logistics\, and race schedule.
LOCATION:Vlasinsko jezero
URL:https://sportplan.vercel.app/en/events/vlasinski-triatlon-samoprevazilazenja-vlasinsko-jezero-2026-07-26
END:VEVENT
END:VCALENDAR
