BEGIN:VCALENDAR
VERSION:2.0
PRODID:-//SportPlan//Event Calendar//EN
CALSCALE:GREGORIAN
BEGIN:VEVENT
UID:95710880-6bbe-40d4-b1da-7537d5b84665@sportplan.local
DTSTAMP:20260420T175557Z
DTSTART;VALUE=DATE:20260926
DTEND;VALUE=DATE:20260927
SUMMARY:Vitality Westminster Mile
DESCRIPTION:Vitality Westminster Mile is the official one-mile mass participation road event in central London on Saturday 26 September 2026. London Marathon Events describes it as the only mile race in London to finish outside Buckingham Palace\, with a family-friendly format and free entry for under-11s.
LOCATION:London\, United Kingdom
URL:https://sportplan.vercel.app/en/events/vitality-westminster-mile-2026-09-26
END:VEVENT
END:VCALENDAR
