BEGIN:VCALENDAR
VERSION:2.0
PRODID:-//SportPlan//Event Calendar//EN
CALSCALE:GREGORIAN
BEGIN:VEVENT
UID:7db28834-69ba-4b9d-89be-9b0fec899624@sportplan.local
DTSTAMP:20260420T204650Z
DTSTART;VALUE=DATE:20261128
DTEND;VALUE=DATE:20261129
SUMMARY:Virgin Active HYROX Johannesburg 2026
DESCRIPTION:Virgin Active HYROX Johannesburg 2026 is an official mass-participation HYROX fitness race in Johannesburg\, South Africa. The official event page includes venue details and participant race-planning information\, indicating a public athlete event rather than a closed pro-only competition.
LOCATION:Johannesburg Expo Centre
URL:https://sportplan.vercel.app/en/events/virgin-active-hyrox-johannesburg-2026-2026-11-28
END:VEVENT
END:VCALENDAR
