BEGIN:VCALENDAR
VERSION:2.0
PRODID:-//SportPlan//Event Calendar//EN
CALSCALE:GREGORIAN
BEGIN:VEVENT
UID:34eb75db-95a2-4daf-b418-114a9f39d6c7@sportplan.local
DTSTAMP:20260420T221749Z
DTSTART;VALUE=DATE:20260129
DTEND;VALUE=DATE:20260130
SUMMARY:Vinci Construction Jizerská 17 2026
DESCRIPTION:Vinci Construction Jizerská 17 is an official amateur-open freestyle cross-country ski race in Bedřichov\, Czech Republic on 29 January 2026. The official Jizerská 50 race page lists the Thursday event at Ski Stadium Bedřichov with a 17.2 km freestyle course\, wave starts from 1:50 PM\, and public online registration.
LOCATION:Ski Stadium Bedřichov\, Bedřichov\, Liberec Region\, Czech Republic
URL:https://sportplan.vercel.app/en/events/vinci-construction-jizerska-17-2026-bedrichov-2026-01-29
END:VEVENT
END:VCALENDAR
