BEGIN:VCALENDAR
VERSION:2.0
PRODID:-//SportPlan//Event Calendar//EN
CALSCALE:GREGORIAN
BEGIN:VEVENT
UID:18506f2a-4a6d-481b-ad3a-5e6402fbe1d4@sportplan.local
DTSTAMP:20260420T180951Z
DTSTART;VALUE=DATE:20260601
DTEND;VALUE=DATE:20260602
SUMMARY:VIII Trail de Tous
DESCRIPTION:VIII Trail de Tous se celebra el 1 de junio de 2026 en Tous\, Valencia\, Comunidad Valenciana. Es una excelente opción para quienes quieren disfrutar de un evento bien organizado en este destino. La prueba recorre 20 km. Se espera un ambiente animado y una jornada memorable tanto para corredores habituales como para debutantes.
LOCATION:Tous\, Valencia\, Comunidad Valenciana
URL:https://sportplan.vercel.app/en/events/viii-trail-de-tous-tous-2026-06-01-20k
END:VEVENT
END:VCALENDAR
