BEGIN:VCALENDAR
VERSION:2.0
PRODID:-//SportPlan//Event Calendar//EN
CALSCALE:GREGORIAN
BEGIN:VEVENT
UID:183703e9-f7b6-4b41-adcf-dbabb763ee55@sportplan.local
DTSTAMP:20260420T204811Z
DTSTART;VALUE=DATE:20260505
DTEND;VALUE=DATE:20260506
SUMMARY:Via Castrum - 23K
DESCRIPTION:Via Castrum - 23K se celebra el 5 mayo 2026 en Santa Eulàlia de Puig-oriol\, Barcelona\, Cataluña\, ofreciendo una cita ideal para participantes que buscan una experiencia bien organizada y con ambiente deportivo. El evento propone un recorrido con una distancia aproximada de 23 km\, pensado para disfrutar del entorno\, mantener un buen ritmo y compartir la jornada con otros asistentes.
LOCATION:Santa Eulàlia de Puig-oriol\, Barcelona\, Cataluña
URL:https://sportplan.vercel.app/en/events/via-castrum-23k-santa-eulalia-de-puig-oriol-2026-05-05-23k
END:VEVENT
END:VCALENDAR
