BEGIN:VCALENDAR
VERSION:2.0
PRODID:-//SportPlan//Event Calendar//EN
CALSCALE:GREGORIAN
BEGIN:VEVENT
UID:4c30b0bd-4147-47ac-b0b5-d292f9d7cfe6@sportplan.local
DTSTAMP:20260420T204526Z
DTSTART;VALUE=DATE:20260501
DTEND;VALUE=DATE:20260502
SUMMARY:Vertical Trail Berguedà
DESCRIPTION:Vertical Trail Berguedà se celebrará el 1 de mayo de 2026 en Villa de Cercs\, Barcelona\, Cataluña. Es una buena opción para quienes buscan sumar una experiencia deportiva bien organizada sobre una distancia de unos 4.6 km. Ideal tanto para participantes habituales como para quienes quieren marcarse un nuevo reto en el calendario.
LOCATION:Villa de Cercs\, Barcelona\, Cataluña
URL:https://sportplan.vercel.app/en/events/vertical-trail-bergueda-villa-de-cercs-2026-05-01-4-6k
END:VEVENT
END:VCALENDAR
