BEGIN:VCALENDAR
VERSION:2.0
PRODID:-//SportPlan//Event Calendar//EN
CALSCALE:GREGORIAN
BEGIN:VEVENT
UID:aa5a9c5d-e2cd-432c-afc3-d674b7c91c20@sportplan.local
DTSTAMP:20260420T211457Z
DTSTART;VALUE=DATE:20260901
DTEND;VALUE=DATE:20260902
SUMMARY:Verti’trail du Môle
DESCRIPTION:Verti’trail du Môle aura lieu le 1 septembre 2026 à Saint-Jeoire\, Haute-Savoie\, Auvernia-Ródano-Alpes. C'est un rendez-vous idéal pour les participants et leurs proches à la recherche d'une ambiance sportive et bien organisée. La distance annoncée est de 13 km.
LOCATION:Saint-Jeoire\, Haute-Savoie\, Auvernia-Ródano-Alpes
URL:https://sportplan.vercel.app/en/events/verti-trail-du-mole-saint-jeoire-2026-09-01-13k
END:VEVENT
END:VCALENDAR
