BEGIN:VCALENDAR
VERSION:2.0
PRODID:-//SportPlan//Event Calendar//EN
CALSCALE:GREGORIAN
BEGIN:VEVENT
UID:255bd86a-468f-44fb-9305-25363978b480@sportplan.local
DTSTAMP:20260420T204558Z
DTSTART;VALUE=DATE:20260701
DTEND;VALUE=DATE:20260702
SUMMARY:Ventspils Tautas Triatlons\, 1.posms
DESCRIPTION:Ventspils Tautas Triatlons\, 1.posms is an official Latvian Triathlon Federation grassroots triathlon on 1 July 2026 at Bušnieku ezera peldvieta in Ventspils. The official tournament regulations say any interested participant may enter\, the event is free of charge\, and the first stage uses about 0.2 km swim\, 8.3 km bike\, and 1.25 to 2.5 km run formats.
LOCATION:Bušnieku ezera peldvieta\, Ventspils\, Latvia
URL:https://sportplan.vercel.app/en/events/ventspils-tautas-triatlons-1-posms-2026-07-01
END:VEVENT
END:VCALENDAR
