BEGIN:VCALENDAR
VERSION:2.0
PRODID:-//SportPlan//Event Calendar//EN
CALSCALE:GREGORIAN
BEGIN:VEVENT
UID:15c80ac6-5974-4891-b15f-d6dd646652e3@sportplan.local
DTSTAMP:20260420T210647Z
DTSTART;VALUE=DATE:20260612
DTEND;VALUE=DATE:20260614
SUMMARY:Vätternrundan 315 km 2026
DESCRIPTION:Vätternrundan 315 km 2026 is an official amateur road-cycling event in Motala\, Sweden. The official Vätternrundan organizer page shows the event dates as 12 to 13 June 2026\, describes it as the world’s largest recreational cycling challenge around Lake Vättern\, and states open registration with start waves from Friday evening into Saturday. The page also gives participant-friendly detail including age limits\, cut-off times\, and Motala-based event operations.
LOCATION:Motala
URL:https://sportplan.vercel.app/en/events/vatternrundan-315-km-2026-motala-2026-06-12
END:VEVENT
END:VCALENDAR
