BEGIN:VCALENDAR
VERSION:2.0
PRODID:-//SportPlan//Event Calendar//EN
CALSCALE:GREGORIAN
BEGIN:VEVENT
UID:efb48b49-dac5-469c-aafb-4cc8ed5dd4ba@sportplan.local
DTSTAMP:20260420T210637Z
DTSTART;VALUE=DATE:20260816
DTEND;VALUE=DATE:20260817
SUMMARY:Vattenfall Cyclassics Hamburg 2026
DESCRIPTION:Vattenfall Cyclassics Hamburg 2026 findet am 16. August 2026 in Hamburg\, Hamburg statt. Die Veranstaltung ist eine starke Wahl für alle\, die in DE eine gut organisierte Herausforderung mit motivierender Atmosphäre suchen. Mit einer Distanz von etwa 160 km bietet sie ein attraktives Sporterlebnis – sowohl für erfahrene Teilnehmende als auch für alle\, die sich ein neues Ziel setzen möchten.
LOCATION:Hamburg\, Hamburg
URL:https://sportplan.vercel.app/en/events/vattenfall-cyclassics-hamburg-2026-hamburg-2026-08-16
END:VEVENT
END:VCALENDAR
