BEGIN:VCALENDAR
VERSION:2.0
PRODID:-//SportPlan//Event Calendar//EN
CALSCALE:GREGORIAN
BEGIN:VEVENT
UID:d016dcb1-9bca-4117-8cde-90b0f5d83975@sportplan.local
DTSTAMP:20260420T234516Z
DTSTART;VALUE=DATE:20270307
DTEND;VALUE=DATE:20270308
SUMMARY:Vasaloppet 90 km 2027
DESCRIPTION:Vasaloppet is the world's biggest cross-country ski race\, combining elite and recreational skiers in the same mass-participation event. The official Vasaloppet race page lists the 103rd Vasaloppet on 7 March 2027 over 90 km from Sälen to Mora\, and the official Winter Week 2027 announcement confirms registration is open for amateur participants.
LOCATION:Sälen to Mora\, Dalarna\, Sweden
URL:https://sportplan.vercel.app/en/events/vasaloppet-90km-2027-mora-2027-03-07
END:VEVENT
END:VCALENDAR
