BEGIN:VCALENDAR
VERSION:2.0
PRODID:-//SportPlan//Event Calendar//EN
CALSCALE:GREGORIAN
BEGIN:VEVENT
UID:1630bc01-3b6e-473f-93fb-b2dcccae82f1@sportplan.local
DTSTAMP:20260420T190911Z
DTSTART;VALUE=DATE:20260502
DTEND;VALUE=DATE:20260503
SUMMARY:Vändra Marathon
DESCRIPTION:Priority scout batch\; discovered via World’s Marathons Estonia pages/web_fetch.
LOCATION:Vändra\, Estonia
URL:https://sportplan.vercel.app/en/events/vandra-marathon-2026-05-02
END:VEVENT
END:VCALENDAR
