BEGIN:VCALENDAR
VERSION:2.0
PRODID:-//SportPlan//Event Calendar//EN
CALSCALE:GREGORIAN
BEGIN:VEVENT
UID:804423a3-f165-497a-8f2f-cf72a4cd3e3f@sportplan.local
DTSTAMP:20260420T221811Z
DTSTART;VALUE=DATE:20260815
DTEND;VALUE=DATE:20260816
SUMMARY:Vancouver T100 Triathlon – 15-16 Aug 2026
DESCRIPTION:discovered via official T100 Triathlon website\; Vancouver T100 15-16 Aug 2026 confirmed via page title\; T100 World Series qualifier in Vancouver\; CA already has IRONMAN triathlon entries from prior runs but this T100 format was not seeded\; sport variety expansion\; BEAST SPECIAL run 2026-03-30
LOCATION:Vancouver\, BC\, Canada
URL:https://sportplan.vercel.app/en/events/vancouver-t100-triathlon-15-16-aug-2026-2026-08-15
END:VEVENT
END:VCALENDAR
