BEGIN:VCALENDAR
VERSION:2.0
PRODID:-//SportPlan//Event Calendar//EN
CALSCALE:GREGORIAN
BEGIN:VEVENT
UID:d40d60fb-ddf3-41d4-b3c9-b35114074e84@sportplan.local
DTSTAMP:20260420T192102Z
DTSTART;VALUE=DATE:20260430
DTEND;VALUE=DATE:20260501
SUMMARY:V Trail Friolero
DESCRIPTION:V Trail Friolero se celebrará el 30 de abril de 2026 en Frías de Albarracín\, Teruel\, Aragón. Es una buena opción para quienes buscan sumar una experiencia deportiva bien organizada sobre una distancia de unos 20 km. Ideal tanto para participantes habituales como para quienes quieren marcarse un nuevo reto en el calendario.
LOCATION:Frías de Albarracín\, Teruel\, Aragón
URL:https://sportplan.vercel.app/en/events/v-trail-friolero-frias-de-albarracin-2026-04-30-20k
END:VEVENT
END:VCALENDAR
