BEGIN:VCALENDAR
VERSION:2.0
PRODID:-//SportPlan//Event Calendar//EN
CALSCALE:GREGORIAN
BEGIN:VEVENT
UID:25656591-2c17-46ec-85a3-5a6d984b0803@sportplan.local
DTSTAMP:20260420T180604Z
DTSTART;VALUE=DATE:20260523
DTEND;VALUE=DATE:20260524
SUMMARY:UTMB Ultra Trail Serra da Mantiqueira 2026
DESCRIPTION:UTMB Ultra Trail Serra da Mantiqueira 2026 acontece em 23 maio 2026 em Campos do Jordão\, São Paulo. Com 100 km de percurso\, oferece um desafio equilibrado para quem quer competir ou simplesmente superar-se. Ideal para definir uma meta para a temporada e viver um dia bem organizado num cenário especial.
LOCATION:Campos do Jordão\, São Paulo
URL:https://sportplan.vercel.app/en/events/utmb-ultra-trail-serra-da-mantiqueira-2026-campos-do-jord-o-2026-05-23
END:VEVENT
END:VCALENDAR
