BEGIN:VCALENDAR
VERSION:2.0
PRODID:-//SportPlan//Event Calendar//EN
CALSCALE:GREGORIAN
BEGIN:VEVENT
UID:599ca32d-a0d9-4c9a-8665-28a0337d007e@sportplan.local
DTSTAMP:20260420T191936Z
DTSTART;VALUE=DATE:20260918
DTEND;VALUE=DATE:20260921
SUMMARY:UTMB Mammoth Lakes 100m 2026
DESCRIPTION:
LOCATION:Mammoth Lakes\, California
URL:https://sportplan.vercel.app/en/events/utmb-mammoth-lakes-100m-2026-mammoth-lakes-2026-09-18
END:VEVENT
END:VCALENDAR
