BEGIN:VCALENDAR
VERSION:2.0
PRODID:-//SportPlan//Event Calendar//EN
CALSCALE:GREGORIAN
BEGIN:VEVENT
UID:d09e0925-6548-4704-8b4e-9e851a127de0@sportplan.local
DTSTAMP:20260420T204218Z
DTSTART;VALUE=DATE:20260704
DTEND;VALUE=DATE:20260705
SUMMARY:Utds EDP Desafío Somiedo 2026
DESCRIPTION:
LOCATION:Somiedo
URL:https://sportplan.vercel.app/en/events/utds-edp-desafio-somiedo-2026
END:VEVENT
END:VCALENDAR
