BEGIN:VCALENDAR
VERSION:2.0
PRODID:-//SportPlan//Event Calendar//EN
CALSCALE:GREGORIAN
BEGIN:VEVENT
UID:303e4bf1-f774-4430-a126-82805fde41c5@sportplan.local
DTSTAMP:20260420T192057Z
DTSTART;VALUE=DATE:20261101
DTEND;VALUE=DATE:20261102
SUMMARY:Urduñako Mendi Maratoia - 14K
DESCRIPTION:Urduñako Mendi Maratoia - 14K se celebrará el 2026-11-01 en Urduña\, Vizcaya\, País Vasco. El recorrido cubre aproximadamente 14 km\, ofreciendo una cita atractiva tanto para participantes que buscan un nuevo reto como para quienes quieren disfrutar del ambiente del evento. Ideal para sumar una nueva experiencia al calendario y disfrutar de una jornada activa en un entorno especial.
LOCATION:Urduña\, Vizcaya\, País Vasco
URL:https://sportplan.vercel.app/en/events/urdunako-mendi-maratoia-14k-urduna-2026-11-01-14k
END:VEVENT
END:VCALENDAR
