BEGIN:VCALENDAR
VERSION:2.0
PRODID:-//SportPlan//Event Calendar//EN
CALSCALE:GREGORIAN
BEGIN:VEVENT
UID:ae03ff08-c2f1-4b93-8a62-bfdb4aecb340@sportplan.local
DTSTAMP:20260420T192051Z
DTSTART;VALUE=DATE:20260502
DTEND;VALUE=DATE:20260503
SUMMARY:Ultratrail los Alcornocales
DESCRIPTION:Ultratrail los Alcornocales se celebrará el 2/5/2026 en Parque Natural Los Alcornocales\, Cádiz\, ES\, con un recorrido de 55 km. Es una gran oportunidad para disfrutar del ambiente del evento\, marcarte un objetivo deportivo y vivir una jornada activa en un entorno especial.
LOCATION:Parque Natural Los Alcornocales\, Cádiz
URL:https://sportplan.vercel.app/en/events/ultratrail-los-alcornocales-castellar-de-la-frontera-2026-05-02
END:VEVENT
END:VCALENDAR
