BEGIN:VCALENDAR
VERSION:2.0
PRODID:-//SportPlan//Event Calendar//EN
CALSCALE:GREGORIAN
BEGIN:VEVENT
UID:731974f8-c29e-480f-b4b4-60c1c9d3affc@sportplan.local
DTSTAMP:20260420T193938Z
DTSTART;VALUE=DATE:20260912
DTEND;VALUE=DATE:20260913
SUMMARY:Ultratrail du Müllerthal
DESCRIPTION:Discovered from DuckDuckGo HTML search results fetched via web_fetch\; direct Ahotu event URL extracted from snippet.
LOCATION:Waldbillig\, Luxembourg
URL:https://sportplan.vercel.app/en/events/ultratrail-du-mullerthal-2026-09-12
END:VEVENT
END:VCALENDAR
