BEGIN:VCALENDAR
VERSION:2.0
PRODID:-//SportPlan//Event Calendar//EN
CALSCALE:GREGORIAN
BEGIN:VEVENT
UID:f7eb7d89-1ef6-404e-a99a-86cd1cb87c87@sportplan.local
DTSTAMP:20260420T224911Z
DTSTART;VALUE=DATE:20260701
DTEND;VALUE=DATE:20260702
SUMMARY:Ultrariege 170 KM Relais
DESCRIPTION:Ultrariege 170 KM Relais aura lieu le 1 juillet 2026 à Ax-les-Thermes\, Ariège\, Occitanie. C'est un rendez-vous intéressant pour les participants à la recherche d'une expérience sportive bien organisée et d'une ambiance motivante. Le parcours couvre environ 170 km. Consultez les informations officielles de l'événement pour connaître les horaires\, le parcours et les détails logistiques.
LOCATION:Ax-les-Thermes\, Ariège\, Occitanie
URL:https://sportplan.vercel.app/en/events/ultrariege-170-km-relais-ax-les-thermes-2026-07-01-170k
END:VEVENT
END:VCALENDAR
