BEGIN:VCALENDAR
VERSION:2.0
PRODID:-//SportPlan//Event Calendar//EN
CALSCALE:GREGORIAN
BEGIN:VEVENT
UID:e9d358f0-e0be-4ed1-9472-ddadc0b901ce@sportplan.local
DTSTAMP:20260420T210730Z
DTSTART;VALUE=DATE:20260829
DTEND;VALUE=DATE:20260830
SUMMARY:UltraBirken Sykkel 110 km 2026
DESCRIPTION:UltraBirken Sykkel 110 km 2026 is an official amateur mountain bike race from Pellestova to Lillehammer\, Norway on 29 August 2026. The official Birken page describes a roughly 110 km technical MTB course with 2\,051 metres of climbing and extensive trail riding\, and states that participants aged 17 and older can take part.
LOCATION:Pellestova to Håkons Hall\, Lillehammer
URL:https://sportplan.vercel.app/en/events/ultrabirken-sykkel-110-km-2026-2026-08-29
END:VEVENT
END:VCALENDAR
