BEGIN:VCALENDAR
VERSION:2.0
PRODID:-//SportPlan//Event Calendar//EN
CALSCALE:GREGORIAN
BEGIN:VEVENT
UID:51c819a4-338b-485a-be16-12ec7b4e21bf@sportplan.local
DTSTAMP:20260420T161837Z
DTSTART;VALUE=DATE:20260223
DTEND;VALUE=DATE:20260228
SUMMARY:Ultra X Tanzania
DESCRIPTION:Ultra X Tanzania is an official amateur multi-stage trail ultra scheduled for 23 to 27 February 2026 in northern Tanzania around Mount Kilimanjaro. The official Ultra X event page describes a five-day route through Kilimanjaro foothills\, savannah\, forests\, wildlife-filled lakes\, and remote Tanzanian backcountry\, welcoming both runners and walkers.
LOCATION:Moshi
URL:https://sportplan.vercel.app/en/events/ultra-x-tanzania-2026-02-23
END:VEVENT
END:VCALENDAR
