BEGIN:VCALENDAR
VERSION:2.0
PRODID:-//SportPlan//Event Calendar//EN
CALSCALE:GREGORIAN
BEGIN:VEVENT
UID:6cc3badf-4c3b-43a4-ab27-7b75bc1199f7@sportplan.local
DTSTAMP:20260420T221655Z
DTSTART;VALUE=DATE:20261115
DTEND;VALUE=DATE:20261116
SUMMARY:Ultra X Morocco – 50K Single Stage
DESCRIPTION:50K single-stage sub-event of Ultra X Morocco\; UTMB Index points\; Morocco TIER3 trail running expansion BEAST SPECIAL 2026-03-30
LOCATION:Ouarzazate\, Morocco
URL:https://sportplan.vercel.app/en/events/ultra-x-morocco-50k-single-stage-2026-11-15
END:VEVENT
END:VCALENDAR
