BEGIN:VCALENDAR
VERSION:2.0
PRODID:-//SportPlan//Event Calendar//EN
CALSCALE:GREGORIAN
BEGIN:VEVENT
UID:322d41e1-d91e-4e1a-afc7-3284f8ed5141@sportplan.local
DTSTAMP:20260420T221621Z
DTSTART;VALUE=DATE:20261114
DTEND;VALUE=DATE:20261115
SUMMARY:Ultra X Morocco 2026
DESCRIPTION:Confirmed live via TimeOutdoors\; 50km or 110km (2-day) desert trail run\; UTMB Index status on 50km\; past Kasbahs\, oases\, rocky desert\; Nov 14-15 2026\; Morocco TIER3 trail running BEAST SPECIAL 2026-03-30
LOCATION:Ouarzazate\, Morocco
URL:https://sportplan.vercel.app/en/events/ultra-x-morocco-2026-2026-11-14
END:VEVENT
END:VCALENDAR
