BEGIN:VCALENDAR
VERSION:2.0
PRODID:-//SportPlan//Event Calendar//EN
CALSCALE:GREGORIAN
BEGIN:VEVENT
UID:346608c2-f089-4970-a286-a32c7ef2bb5c@sportplan.local
DTSTAMP:20260420T180547Z
DTSTART;VALUE=DATE:20260822
DTEND;VALUE=DATE:20260824
SUMMARY:Ultra Trail Whistler by UTMB
DESCRIPTION:
LOCATION:Whistler
URL:https://sportplan.vercel.app/en/events/ultra-trail-whistler-by-utmb-whistler-2026-08-22
END:VEVENT
END:VCALENDAR
