BEGIN:VCALENDAR
VERSION:2.0
PRODID:-//SportPlan//Event Calendar//EN
CALSCALE:GREGORIAN
BEGIN:VEVENT
UID:ee246332-b73a-444b-8265-25055841a2e1@sportplan.local
DTSTAMP:20260420T195222Z
DTSTART;VALUE=DATE:20260926
DTEND;VALUE=DATE:20260928
SUMMARY:Ultra Trail Torres del Paine 80K 2026
DESCRIPTION:Ultra Trail Torres del Paine 80K 2026 se celebrará el 26 septiembre 2026 en Torres del Paine\, Magallanes\, ofreciendo una cita ideal para quienes buscan un reto bien organizado y un gran ambiente deportivo. Con un recorrido de 80 km\, es una buena oportunidad para marcar objetivos\, disfrutar del entorno y vivir la energía del evento de principio a fin.
LOCATION:Torres del Paine\, Magallanes
URL:https://sportplan.vercel.app/en/events/ultra-trail-torres-del-paine-80k-2026-torres-del-paine-2026-09-26
END:VEVENT
END:VCALENDAR
