BEGIN:VCALENDAR
VERSION:2.0
PRODID:-//SportPlan//Event Calendar//EN
CALSCALE:GREGORIAN
BEGIN:VEVENT
UID:c0b6fcc5-de41-444b-a3d6-1d5829ab91a5@sportplan.local
DTSTAMP:20260420T180547Z
DTSTART;VALUE=DATE:20260515
DTEND;VALUE=DATE:20260518
SUMMARY:Ultra-Trail Snowdonia by Utmb
DESCRIPTION:
LOCATION:North Wales
URL:https://sportplan.vercel.app/en/events/ultra-trail-snowdonia-by-utmb-north-wales-2026-05-15
END:VEVENT
END:VCALENDAR
