BEGIN:VCALENDAR
VERSION:2.0
PRODID:-//SportPlan//Event Calendar//EN
CALSCALE:GREGORIAN
BEGIN:VEVENT
UID:a1ff9a57-73d1-4463-91ff-f69b3706aa5a@sportplan.local
DTSTAMP:20260420T222722Z
DTSTART;VALUE=DATE:20260911
DTEND;VALUE=DATE:20260914
SUMMARY:Ultra-Trail Harricana Du Canada (UTHC)
DESCRIPTION:Ultra-Trail Harricana Du Canada (UTHC) takes place in Grand-Fonds on September 11\, 2026\, bringing participants together for a memorable day of sport and atmosphere. Expect an enjoyable event setting\, a motivated field\, and a strong local race-day experience.
LOCATION:Grand-Fonds
URL:https://sportplan.vercel.app/en/events/ultra-trail-harricana-du-canada-uthc-grand-fonds-2026-09-11
END:VEVENT
END:VCALENDAR
